BEGIN:VCALENDAR
VERSION:2.0
PRODID:-//The Maldives National University - ECPv6.6.0.2//NONSGML v1.0//EN
CALSCALE:GREGORIAN
METHOD:PUBLISH
X-WR-CALNAME:The Maldives National University
X-ORIGINAL-URL:https://mnu.edu.mv
X-WR-CALDESC:Events for The Maldives National University
REFRESH-INTERVAL;VALUE=DURATION:PT1H
X-Robots-Tag:noindex
X-PUBLISHED-TTL:PT1H
BEGIN:VTIMEZONE
TZID:Asia/Karachi
BEGIN:STANDARD
TZOFFSETFROM:+0500
TZOFFSETTO:+0500
TZNAME:PKT
DTSTART:20220101T000000
END:STANDARD
END:VTIMEZONE
BEGIN:VEVENT
DTSTART;TZID=Asia/Karachi:20220123T000000
DTEND;TZID=Asia/Karachi:20220217T000000
DTSTAMP:20260426T083406
CREATED:20220906T095315Z
LAST-MODIFIED:20220906T095315Z
UID:15541-1642896000-1645056000@mnu.edu.mv
SUMMARY:Re-registration / Registration
DESCRIPTION:
URL:https://mnu.edu.mv/event/re-registration-registration/
END:VEVENT
BEGIN:VEVENT
DTSTART;TZID=Asia/Karachi:20220130T000000
DTEND;TZID=Asia/Karachi:20220203T000000
DTSTAMP:20260426T083406
CREATED:20220906T095317Z
LAST-MODIFIED:20220906T095317Z
UID:15543-1643500800-1643846400@mnu.edu.mv
SUMMARY:MNU General Orientation / Professional Development
DESCRIPTION:
URL:https://mnu.edu.mv/event/mnu-general-orientation-professional-development/
END:VEVENT
END:VCALENDAR